BEGIN:VCALENDAR
VERSION:2.0
PRODID:-//Glendale Adventist Church - ECPv6.15.18//NONSGML v1.0//EN
CALSCALE:GREGORIAN
METHOD:PUBLISH
X-WR-CALNAME:Glendale Adventist Church
X-ORIGINAL-URL:https://www.glendaleazsda.org
X-WR-CALDESC:Events for Glendale Adventist Church
REFRESH-INTERVAL;VALUE=DURATION:PT1H
X-Robots-Tag:noindex
X-PUBLISHED-TTL:PT1H
BEGIN:VTIMEZONE
TZID:America/Phoenix
BEGIN:STANDARD
TZOFFSETFROM:-0700
TZOFFSETTO:-0700
TZNAME:MST
DTSTART:20250101T000000
END:STANDARD
END:VTIMEZONE
BEGIN:VEVENT
DTSTART;TZID=America/Phoenix:20260420T183000
DTEND;TZID=America/Phoenix:20260420T190000
DTSTAMP:20260420T063733
CREATED:20260410T165700Z
LAST-MODIFIED:20260410T165700Z
UID:18969-1776709800-1776711600@www.glendaleazsda.org
SUMMARY:Ladies Dine Out
DESCRIPTION:All ladies are invited to the monthly Ladies Dine Out\, for good food and sweet fellowship on Monday\, April 20\, at 6:30 PM\, at the Olive Garden\, Metro Center\, 10223 N. Metro Parkway\, Phoenix. If you are interested\, sign up at the Lobby counter\, or call/text Meri Phillips\, 480-427-1516.
URL:https://www.glendaleazsda.org/event/ladies-dine-out-28/
END:VEVENT
END:VCALENDAR