BEGIN:VCALENDAR
VERSION:2.0
PRODID:-//Glendale Adventist Church - ECPv6.15.18//NONSGML v1.0//EN
CALSCALE:GREGORIAN
METHOD:PUBLISH
X-WR-CALNAME:Glendale Adventist Church
X-ORIGINAL-URL:https://www.glendaleazsda.org
X-WR-CALDESC:Events for Glendale Adventist Church
REFRESH-INTERVAL;VALUE=DURATION:PT1H
X-Robots-Tag:noindex
X-PUBLISHED-TTL:PT1H
BEGIN:VTIMEZONE
TZID:America/Phoenix
BEGIN:STANDARD
TZOFFSETFROM:-0700
TZOFFSETTO:-0700
TZNAME:MST
DTSTART:20250101T000000
END:STANDARD
END:VTIMEZONE
BEGIN:VEVENT
DTSTART;TZID=America/Phoenix:20260421T190000
DTEND;TZID=America/Phoenix:20260421T203000
DTSTAMP:20260421T011819
CREATED:20260213T212626Z
LAST-MODIFIED:20260213T212626Z
UID:10017266-1776798000-1776803400@www.glendaleazsda.org
SUMMARY:Foundations Class
DESCRIPTION:The Foundations Class is an in-depth Bible study on the fundamental beliefs of Adventism\, taught by Pastor Myles Reiner. The class takes place every Tuesday\, at 7:00 PM\, in Room 6. Whether you are a long-time Adventist or seeking to be baptized\, this class is for you! A zoom option is available. For more information contact Pastor Myles\, 602-571-8600.
URL:https://www.glendaleazsda.org/event/foundations-class-7-3/2026-04-21/
END:VEVENT
BEGIN:VEVENT
DTSTART;TZID=America/Phoenix:20260428T190000
DTEND;TZID=America/Phoenix:20260428T203000
DTSTAMP:20260421T011819
CREATED:20260213T212626Z
LAST-MODIFIED:20260213T212626Z
UID:10017267-1777402800-1777408200@www.glendaleazsda.org
SUMMARY:Foundations Class
DESCRIPTION:The Foundations Class is an in-depth Bible study on the fundamental beliefs of Adventism\, taught by Pastor Myles Reiner. The class takes place every Tuesday\, at 7:00 PM\, in Room 6. Whether you are a long-time Adventist or seeking to be baptized\, this class is for you! A zoom option is available. For more information contact Pastor Myles\, 602-571-8600.
URL:https://www.glendaleazsda.org/event/foundations-class-7-3/2026-04-28/
END:VEVENT
BEGIN:VEVENT
DTSTART;TZID=America/Phoenix:20260505T190000
DTEND;TZID=America/Phoenix:20260505T203000
DTSTAMP:20260421T011819
CREATED:20260213T212626Z
LAST-MODIFIED:20260213T212626Z
UID:10017268-1778007600-1778013000@www.glendaleazsda.org
SUMMARY:Foundations Class
DESCRIPTION:The Foundations Class is an in-depth Bible study on the fundamental beliefs of Adventism\, taught by Pastor Myles Reiner. The class takes place every Tuesday\, at 7:00 PM\, in Room 6. Whether you are a long-time Adventist or seeking to be baptized\, this class is for you! A zoom option is available. For more information contact Pastor Myles\, 602-571-8600.
URL:https://www.glendaleazsda.org/event/foundations-class-7-3/2026-05-05/
END:VEVENT
BEGIN:VEVENT
DTSTART;TZID=America/Phoenix:20260512T190000
DTEND;TZID=America/Phoenix:20260512T203000
DTSTAMP:20260421T011819
CREATED:20260213T212626Z
LAST-MODIFIED:20260213T212626Z
UID:10017269-1778612400-1778617800@www.glendaleazsda.org
SUMMARY:Foundations Class
DESCRIPTION:The Foundations Class is an in-depth Bible study on the fundamental beliefs of Adventism\, taught by Pastor Myles Reiner. The class takes place every Tuesday\, at 7:00 PM\, in Room 6. Whether you are a long-time Adventist or seeking to be baptized\, this class is for you! A zoom option is available. For more information contact Pastor Myles\, 602-571-8600.
URL:https://www.glendaleazsda.org/event/foundations-class-7-3/2026-05-12/
END:VEVENT
BEGIN:VEVENT
DTSTART;TZID=America/Phoenix:20260519T190000
DTEND;TZID=America/Phoenix:20260519T203000
DTSTAMP:20260421T011819
CREATED:20260213T212626Z
LAST-MODIFIED:20260213T212626Z
UID:10017270-1779217200-1779222600@www.glendaleazsda.org
SUMMARY:Foundations Class
DESCRIPTION:The Foundations Class is an in-depth Bible study on the fundamental beliefs of Adventism\, taught by Pastor Myles Reiner. The class takes place every Tuesday\, at 7:00 PM\, in Room 6. Whether you are a long-time Adventist or seeking to be baptized\, this class is for you! A zoom option is available. For more information contact Pastor Myles\, 602-571-8600.
URL:https://www.glendaleazsda.org/event/foundations-class-7-3/2026-05-19/
END:VEVENT
BEGIN:VEVENT
DTSTART;TZID=America/Phoenix:20260526T190000
DTEND;TZID=America/Phoenix:20260526T203000
DTSTAMP:20260421T011819
CREATED:20260213T212626Z
LAST-MODIFIED:20260213T212626Z
UID:10017271-1779822000-1779827400@www.glendaleazsda.org
SUMMARY:Foundations Class
DESCRIPTION:The Foundations Class is an in-depth Bible study on the fundamental beliefs of Adventism\, taught by Pastor Myles Reiner. The class takes place every Tuesday\, at 7:00 PM\, in Room 6. Whether you are a long-time Adventist or seeking to be baptized\, this class is for you! A zoom option is available. For more information contact Pastor Myles\, 602-571-8600.
URL:https://www.glendaleazsda.org/event/foundations-class-7-3/2026-05-26/
END:VEVENT
BEGIN:VEVENT
DTSTART;TZID=America/Phoenix:20260602T190000
DTEND;TZID=America/Phoenix:20260602T203000
DTSTAMP:20260421T011819
CREATED:20260213T212626Z
LAST-MODIFIED:20260213T212626Z
UID:10017272-1780426800-1780432200@www.glendaleazsda.org
SUMMARY:Foundations Class
DESCRIPTION:The Foundations Class is an in-depth Bible study on the fundamental beliefs of Adventism\, taught by Pastor Myles Reiner. The class takes place every Tuesday\, at 7:00 PM\, in Room 6. Whether you are a long-time Adventist or seeking to be baptized\, this class is for you! A zoom option is available. For more information contact Pastor Myles\, 602-571-8600.
URL:https://www.glendaleazsda.org/event/foundations-class-7-3/2026-06-02/
END:VEVENT
BEGIN:VEVENT
DTSTART;TZID=America/Phoenix:20260609T190000
DTEND;TZID=America/Phoenix:20260609T203000
DTSTAMP:20260421T011819
CREATED:20260213T212626Z
LAST-MODIFIED:20260213T212626Z
UID:10017273-1781031600-1781037000@www.glendaleazsda.org
SUMMARY:Foundations Class
DESCRIPTION:The Foundations Class is an in-depth Bible study on the fundamental beliefs of Adventism\, taught by Pastor Myles Reiner. The class takes place every Tuesday\, at 7:00 PM\, in Room 6. Whether you are a long-time Adventist or seeking to be baptized\, this class is for you! A zoom option is available. For more information contact Pastor Myles\, 602-571-8600.
URL:https://www.glendaleazsda.org/event/foundations-class-7-3/2026-06-09/
END:VEVENT
BEGIN:VEVENT
DTSTART;TZID=America/Phoenix:20260616T190000
DTEND;TZID=America/Phoenix:20260616T203000
DTSTAMP:20260421T011819
CREATED:20260213T212626Z
LAST-MODIFIED:20260213T212626Z
UID:10017274-1781636400-1781641800@www.glendaleazsda.org
SUMMARY:Foundations Class
DESCRIPTION:The Foundations Class is an in-depth Bible study on the fundamental beliefs of Adventism\, taught by Pastor Myles Reiner. The class takes place every Tuesday\, at 7:00 PM\, in Room 6. Whether you are a long-time Adventist or seeking to be baptized\, this class is for you! A zoom option is available. For more information contact Pastor Myles\, 602-571-8600.
URL:https://www.glendaleazsda.org/event/foundations-class-7-3/2026-06-16/
END:VEVENT
BEGIN:VEVENT
DTSTART;TZID=America/Phoenix:20260623T190000
DTEND;TZID=America/Phoenix:20260623T203000
DTSTAMP:20260421T011819
CREATED:20260213T212626Z
LAST-MODIFIED:20260213T212626Z
UID:10017275-1782241200-1782246600@www.glendaleazsda.org
SUMMARY:Foundations Class
DESCRIPTION:The Foundations Class is an in-depth Bible study on the fundamental beliefs of Adventism\, taught by Pastor Myles Reiner. The class takes place every Tuesday\, at 7:00 PM\, in Room 6. Whether you are a long-time Adventist or seeking to be baptized\, this class is for you! A zoom option is available. For more information contact Pastor Myles\, 602-571-8600.
URL:https://www.glendaleazsda.org/event/foundations-class-7-3/2026-06-23/
END:VEVENT
BEGIN:VEVENT
DTSTART;TZID=America/Phoenix:20260630T190000
DTEND;TZID=America/Phoenix:20260630T203000
DTSTAMP:20260421T011819
CREATED:20260213T212626Z
LAST-MODIFIED:20260213T212626Z
UID:10017276-1782846000-1782851400@www.glendaleazsda.org
SUMMARY:Foundations Class
DESCRIPTION:The Foundations Class is an in-depth Bible study on the fundamental beliefs of Adventism\, taught by Pastor Myles Reiner. The class takes place every Tuesday\, at 7:00 PM\, in Room 6. Whether you are a long-time Adventist or seeking to be baptized\, this class is for you! A zoom option is available. For more information contact Pastor Myles\, 602-571-8600.
URL:https://www.glendaleazsda.org/event/foundations-class-7-3/2026-06-30/
END:VEVENT
BEGIN:VEVENT
DTSTART;TZID=America/Phoenix:20260707T190000
DTEND;TZID=America/Phoenix:20260707T203000
DTSTAMP:20260421T011819
CREATED:20260213T212626Z
LAST-MODIFIED:20260213T212626Z
UID:10017277-1783450800-1783456200@www.glendaleazsda.org
SUMMARY:Foundations Class
DESCRIPTION:The Foundations Class is an in-depth Bible study on the fundamental beliefs of Adventism\, taught by Pastor Myles Reiner. The class takes place every Tuesday\, at 7:00 PM\, in Room 6. Whether you are a long-time Adventist or seeking to be baptized\, this class is for you! A zoom option is available. For more information contact Pastor Myles\, 602-571-8600.
URL:https://www.glendaleazsda.org/event/foundations-class-7-3/2026-07-07/
END:VEVENT
BEGIN:VEVENT
DTSTART;TZID=America/Phoenix:20260714T190000
DTEND;TZID=America/Phoenix:20260714T203000
DTSTAMP:20260421T011819
CREATED:20260213T212626Z
LAST-MODIFIED:20260213T212626Z
UID:10017278-1784055600-1784061000@www.glendaleazsda.org
SUMMARY:Foundations Class
DESCRIPTION:The Foundations Class is an in-depth Bible study on the fundamental beliefs of Adventism\, taught by Pastor Myles Reiner. The class takes place every Tuesday\, at 7:00 PM\, in Room 6. Whether you are a long-time Adventist or seeking to be baptized\, this class is for you! A zoom option is available. For more information contact Pastor Myles\, 602-571-8600.
URL:https://www.glendaleazsda.org/event/foundations-class-7-3/2026-07-14/
END:VEVENT
BEGIN:VEVENT
DTSTART;TZID=America/Phoenix:20260721T190000
DTEND;TZID=America/Phoenix:20260721T203000
DTSTAMP:20260421T011819
CREATED:20260213T212626Z
LAST-MODIFIED:20260213T212626Z
UID:10017279-1784660400-1784665800@www.glendaleazsda.org
SUMMARY:Foundations Class
DESCRIPTION:The Foundations Class is an in-depth Bible study on the fundamental beliefs of Adventism\, taught by Pastor Myles Reiner. The class takes place every Tuesday\, at 7:00 PM\, in Room 6. Whether you are a long-time Adventist or seeking to be baptized\, this class is for you! A zoom option is available. For more information contact Pastor Myles\, 602-571-8600.
URL:https://www.glendaleazsda.org/event/foundations-class-7-3/2026-07-21/
END:VEVENT
BEGIN:VEVENT
DTSTART;TZID=America/Phoenix:20260728T190000
DTEND;TZID=America/Phoenix:20260728T203000
DTSTAMP:20260421T011819
CREATED:20260213T212626Z
LAST-MODIFIED:20260213T212626Z
UID:10017280-1785265200-1785270600@www.glendaleazsda.org
SUMMARY:Foundations Class
DESCRIPTION:The Foundations Class is an in-depth Bible study on the fundamental beliefs of Adventism\, taught by Pastor Myles Reiner. The class takes place every Tuesday\, at 7:00 PM\, in Room 6. Whether you are a long-time Adventist or seeking to be baptized\, this class is for you! A zoom option is available. For more information contact Pastor Myles\, 602-571-8600.
URL:https://www.glendaleazsda.org/event/foundations-class-7-3/2026-07-28/
END:VEVENT
BEGIN:VEVENT
DTSTART;TZID=America/Phoenix:20260804T190000
DTEND;TZID=America/Phoenix:20260804T203000
DTSTAMP:20260421T011819
CREATED:20260213T212626Z
LAST-MODIFIED:20260213T212626Z
UID:10017281-1785870000-1785875400@www.glendaleazsda.org
SUMMARY:Foundations Class
DESCRIPTION:The Foundations Class is an in-depth Bible study on the fundamental beliefs of Adventism\, taught by Pastor Myles Reiner. The class takes place every Tuesday\, at 7:00 PM\, in Room 6. Whether you are a long-time Adventist or seeking to be baptized\, this class is for you! A zoom option is available. For more information contact Pastor Myles\, 602-571-8600.
URL:https://www.glendaleazsda.org/event/foundations-class-7-3/2026-08-04/
END:VEVENT
BEGIN:VEVENT
DTSTART;TZID=America/Phoenix:20260811T190000
DTEND;TZID=America/Phoenix:20260811T203000
DTSTAMP:20260421T011819
CREATED:20260213T212626Z
LAST-MODIFIED:20260213T212626Z
UID:10017282-1786474800-1786480200@www.glendaleazsda.org
SUMMARY:Foundations Class
DESCRIPTION:The Foundations Class is an in-depth Bible study on the fundamental beliefs of Adventism\, taught by Pastor Myles Reiner. The class takes place every Tuesday\, at 7:00 PM\, in Room 6. Whether you are a long-time Adventist or seeking to be baptized\, this class is for you! A zoom option is available. For more information contact Pastor Myles\, 602-571-8600.
URL:https://www.glendaleazsda.org/event/foundations-class-7-3/2026-08-11/
END:VEVENT
BEGIN:VEVENT
DTSTART;TZID=America/Phoenix:20260818T190000
DTEND;TZID=America/Phoenix:20260818T203000
DTSTAMP:20260421T011819
CREATED:20260213T212626Z
LAST-MODIFIED:20260213T212626Z
UID:10017283-1787079600-1787085000@www.glendaleazsda.org
SUMMARY:Foundations Class
DESCRIPTION:The Foundations Class is an in-depth Bible study on the fundamental beliefs of Adventism\, taught by Pastor Myles Reiner. The class takes place every Tuesday\, at 7:00 PM\, in Room 6. Whether you are a long-time Adventist or seeking to be baptized\, this class is for you! A zoom option is available. For more information contact Pastor Myles\, 602-571-8600.
URL:https://www.glendaleazsda.org/event/foundations-class-7-3/2026-08-18/
END:VEVENT
BEGIN:VEVENT
DTSTART;TZID=America/Phoenix:20260825T190000
DTEND;TZID=America/Phoenix:20260825T203000
DTSTAMP:20260421T011819
CREATED:20260213T212626Z
LAST-MODIFIED:20260213T212626Z
UID:10017284-1787684400-1787689800@www.glendaleazsda.org
SUMMARY:Foundations Class
DESCRIPTION:The Foundations Class is an in-depth Bible study on the fundamental beliefs of Adventism\, taught by Pastor Myles Reiner. The class takes place every Tuesday\, at 7:00 PM\, in Room 6. Whether you are a long-time Adventist or seeking to be baptized\, this class is for you! A zoom option is available. For more information contact Pastor Myles\, 602-571-8600.
URL:https://www.glendaleazsda.org/event/foundations-class-7-3/2026-08-25/
END:VEVENT
BEGIN:VEVENT
DTSTART;TZID=America/Phoenix:20260901T190000
DTEND;TZID=America/Phoenix:20260901T203000
DTSTAMP:20260421T011819
CREATED:20260213T212626Z
LAST-MODIFIED:20260213T212626Z
UID:10017285-1788289200-1788294600@www.glendaleazsda.org
SUMMARY:Foundations Class
DESCRIPTION:The Foundations Class is an in-depth Bible study on the fundamental beliefs of Adventism\, taught by Pastor Myles Reiner. The class takes place every Tuesday\, at 7:00 PM\, in Room 6. Whether you are a long-time Adventist or seeking to be baptized\, this class is for you! A zoom option is available. For more information contact Pastor Myles\, 602-571-8600.
URL:https://www.glendaleazsda.org/event/foundations-class-7-3/2026-09-01/
END:VEVENT
BEGIN:VEVENT
DTSTART;TZID=America/Phoenix:20260908T190000
DTEND;TZID=America/Phoenix:20260908T203000
DTSTAMP:20260421T011819
CREATED:20260213T212626Z
LAST-MODIFIED:20260213T212626Z
UID:10017286-1788894000-1788899400@www.glendaleazsda.org
SUMMARY:Foundations Class
DESCRIPTION:The Foundations Class is an in-depth Bible study on the fundamental beliefs of Adventism\, taught by Pastor Myles Reiner. The class takes place every Tuesday\, at 7:00 PM\, in Room 6. Whether you are a long-time Adventist or seeking to be baptized\, this class is for you! A zoom option is available. For more information contact Pastor Myles\, 602-571-8600.
URL:https://www.glendaleazsda.org/event/foundations-class-7-3/2026-09-08/
END:VEVENT
BEGIN:VEVENT
DTSTART;TZID=America/Phoenix:20260915T190000
DTEND;TZID=America/Phoenix:20260915T203000
DTSTAMP:20260421T011819
CREATED:20260213T212626Z
LAST-MODIFIED:20260213T212626Z
UID:10017287-1789498800-1789504200@www.glendaleazsda.org
SUMMARY:Foundations Class
DESCRIPTION:The Foundations Class is an in-depth Bible study on the fundamental beliefs of Adventism\, taught by Pastor Myles Reiner. The class takes place every Tuesday\, at 7:00 PM\, in Room 6. Whether you are a long-time Adventist or seeking to be baptized\, this class is for you! A zoom option is available. For more information contact Pastor Myles\, 602-571-8600.
URL:https://www.glendaleazsda.org/event/foundations-class-7-3/2026-09-15/
END:VEVENT
BEGIN:VEVENT
DTSTART;TZID=America/Phoenix:20260922T190000
DTEND;TZID=America/Phoenix:20260922T203000
DTSTAMP:20260421T011819
CREATED:20260213T212626Z
LAST-MODIFIED:20260213T212626Z
UID:10017288-1790103600-1790109000@www.glendaleazsda.org
SUMMARY:Foundations Class
DESCRIPTION:The Foundations Class is an in-depth Bible study on the fundamental beliefs of Adventism\, taught by Pastor Myles Reiner. The class takes place every Tuesday\, at 7:00 PM\, in Room 6. Whether you are a long-time Adventist or seeking to be baptized\, this class is for you! A zoom option is available. For more information contact Pastor Myles\, 602-571-8600.
URL:https://www.glendaleazsda.org/event/foundations-class-7-3/2026-09-22/
END:VEVENT
BEGIN:VEVENT
DTSTART;TZID=America/Phoenix:20260929T190000
DTEND;TZID=America/Phoenix:20260929T203000
DTSTAMP:20260421T011819
CREATED:20260213T212626Z
LAST-MODIFIED:20260213T212626Z
UID:10017289-1790708400-1790713800@www.glendaleazsda.org
SUMMARY:Foundations Class
DESCRIPTION:The Foundations Class is an in-depth Bible study on the fundamental beliefs of Adventism\, taught by Pastor Myles Reiner. The class takes place every Tuesday\, at 7:00 PM\, in Room 6. Whether you are a long-time Adventist or seeking to be baptized\, this class is for you! A zoom option is available. For more information contact Pastor Myles\, 602-571-8600.
URL:https://www.glendaleazsda.org/event/foundations-class-7-3/2026-09-29/
END:VEVENT
BEGIN:VEVENT
DTSTART;TZID=America/Phoenix:20261006T190000
DTEND;TZID=America/Phoenix:20261006T203000
DTSTAMP:20260421T011819
CREATED:20260213T212626Z
LAST-MODIFIED:20260213T212626Z
UID:10017290-1791313200-1791318600@www.glendaleazsda.org
SUMMARY:Foundations Class
DESCRIPTION:The Foundations Class is an in-depth Bible study on the fundamental beliefs of Adventism\, taught by Pastor Myles Reiner. The class takes place every Tuesday\, at 7:00 PM\, in Room 6. Whether you are a long-time Adventist or seeking to be baptized\, this class is for you! A zoom option is available. For more information contact Pastor Myles\, 602-571-8600.
URL:https://www.glendaleazsda.org/event/foundations-class-7-3/2026-10-06/
END:VEVENT
BEGIN:VEVENT
DTSTART;TZID=America/Phoenix:20261013T190000
DTEND;TZID=America/Phoenix:20261013T203000
DTSTAMP:20260421T011819
CREATED:20260213T212626Z
LAST-MODIFIED:20260213T212626Z
UID:10017291-1791918000-1791923400@www.glendaleazsda.org
SUMMARY:Foundations Class
DESCRIPTION:The Foundations Class is an in-depth Bible study on the fundamental beliefs of Adventism\, taught by Pastor Myles Reiner. The class takes place every Tuesday\, at 7:00 PM\, in Room 6. Whether you are a long-time Adventist or seeking to be baptized\, this class is for you! A zoom option is available. For more information contact Pastor Myles\, 602-571-8600.
URL:https://www.glendaleazsda.org/event/foundations-class-7-3/2026-10-13/
END:VEVENT
BEGIN:VEVENT
DTSTART;TZID=America/Phoenix:20261020T190000
DTEND;TZID=America/Phoenix:20261020T203000
DTSTAMP:20260421T011819
CREATED:20260213T212626Z
LAST-MODIFIED:20260213T212626Z
UID:10017292-1792522800-1792528200@www.glendaleazsda.org
SUMMARY:Foundations Class
DESCRIPTION:The Foundations Class is an in-depth Bible study on the fundamental beliefs of Adventism\, taught by Pastor Myles Reiner. The class takes place every Tuesday\, at 7:00 PM\, in Room 6. Whether you are a long-time Adventist or seeking to be baptized\, this class is for you! A zoom option is available. For more information contact Pastor Myles\, 602-571-8600.
URL:https://www.glendaleazsda.org/event/foundations-class-7-3/2026-10-20/
END:VEVENT
BEGIN:VEVENT
DTSTART;TZID=America/Phoenix:20261027T190000
DTEND;TZID=America/Phoenix:20261027T203000
DTSTAMP:20260421T011819
CREATED:20260213T212626Z
LAST-MODIFIED:20260213T212626Z
UID:10017293-1793127600-1793133000@www.glendaleazsda.org
SUMMARY:Foundations Class
DESCRIPTION:The Foundations Class is an in-depth Bible study on the fundamental beliefs of Adventism\, taught by Pastor Myles Reiner. The class takes place every Tuesday\, at 7:00 PM\, in Room 6. Whether you are a long-time Adventist or seeking to be baptized\, this class is for you! A zoom option is available. For more information contact Pastor Myles\, 602-571-8600.
URL:https://www.glendaleazsda.org/event/foundations-class-7-3/2026-10-27/
END:VEVENT
BEGIN:VEVENT
DTSTART;TZID=America/Phoenix:20261103T190000
DTEND;TZID=America/Phoenix:20261103T203000
DTSTAMP:20260421T011819
CREATED:20260213T212626Z
LAST-MODIFIED:20260213T212626Z
UID:10017294-1793732400-1793737800@www.glendaleazsda.org
SUMMARY:Foundations Class
DESCRIPTION:The Foundations Class is an in-depth Bible study on the fundamental beliefs of Adventism\, taught by Pastor Myles Reiner. The class takes place every Tuesday\, at 7:00 PM\, in Room 6. Whether you are a long-time Adventist or seeking to be baptized\, this class is for you! A zoom option is available. For more information contact Pastor Myles\, 602-571-8600.
URL:https://www.glendaleazsda.org/event/foundations-class-7-3/2026-11-03/
END:VEVENT
BEGIN:VEVENT
DTSTART;TZID=America/Phoenix:20261110T190000
DTEND;TZID=America/Phoenix:20261110T203000
DTSTAMP:20260421T011819
CREATED:20260213T212626Z
LAST-MODIFIED:20260213T212626Z
UID:10017295-1794337200-1794342600@www.glendaleazsda.org
SUMMARY:Foundations Class
DESCRIPTION:The Foundations Class is an in-depth Bible study on the fundamental beliefs of Adventism\, taught by Pastor Myles Reiner. The class takes place every Tuesday\, at 7:00 PM\, in Room 6. Whether you are a long-time Adventist or seeking to be baptized\, this class is for you! A zoom option is available. For more information contact Pastor Myles\, 602-571-8600.
URL:https://www.glendaleazsda.org/event/foundations-class-7-3/2026-11-10/
END:VEVENT
END:VCALENDAR